Package: VariantAnnotation Version: 1.55.2 Command: /Library/Frameworks/R.framework/Resources/bin/R CMD build --keep-empty-dirs --no-resave-data VariantAnnotation StartedAt: 2025-10-24 19:10:42 -0400 (Fri, 24 Oct 2025) EndedAt: 2025-10-24 19:14:33 -0400 (Fri, 24 Oct 2025) EllapsedTime: 230.6 seconds RetCode: 0 Status: OK PackageFile: VariantAnnotation_1.55.2.tar.gz PackageFileSize: 2.024 MiB