Package: VariantAnnotation Version: 1.55.2 Command: rm -rf VariantAnnotation.buildbin-libdir && mkdir VariantAnnotation.buildbin-libdir && /Users/biocbuild/BBS/utils/build-universal.sh VariantAnnotation_1.55.2.tar.gz /Library/Frameworks/R.framework/Resources/bin/R VariantAnnotation.buildbin-libdir StartedAt: 2025-10-25 02:10:07 -0400 (Sat, 25 Oct 2025) EndedAt: 2025-10-25 02:11:40 -0400 (Sat, 25 Oct 2025) EllapsedTime: 92.8 seconds RetCode: 0 Status: OK PackageFile: VariantAnnotation_1.55.2.tgz PackageFileSize: 4.41 MiB