Package: VaSP Version: 1.22.0 Command: /home/biocbuild/bbs-3.22-bioc/R/bin/R CMD INSTALL VaSP StartedAt: 2025-10-29 21:45:55 -0400 (Wed, 29 Oct 2025) EndedAt: 2025-10-29 21:46:31 -0400 (Wed, 29 Oct 2025) EllapsedTime: 35.8 seconds RetCode: 0 Status: OK