Package: VCFArray Version: 1.25.0 Command: /home/biocbuild/bbs-3.22-bioc/R/bin/R CMD INSTALL VCFArray StartedAt: 2025-10-24 16:09:02 -0400 (Fri, 24 Oct 2025) EndedAt: 2025-10-24 16:09:44 -0400 (Fri, 24 Oct 2025) EllapsedTime: 42.3 seconds RetCode: 0 Status: OK