Package: VCFArray Version: 1.26.0 Command: /home/biocbuild/bbs-3.22-bioc/R/bin/R CMD check --install=check:VCFArray.install-out.txt --library=/home/biocbuild/bbs-3.22-bioc/R/site-library --timings VCFArray_1.26.0.tar.gz StartedAt: 2025-11-01 05:23:05 -0400 (Sat, 01 Nov 2025) EndedAt: 2025-11-01 05:28:14 -0400 (Sat, 01 Nov 2025) EllapsedTime: 309.3 seconds RetCode: 0 Status: OK CheckDir: VCFArray.Rcheck Warnings: 0