Package: VCFArray Version: 1.25.0 Command: /Library/Frameworks/R.framework/Resources/bin/R CMD INSTALL VCFArray StartedAt: 2025-10-24 15:33:08 -0400 (Fri, 24 Oct 2025) EndedAt: 2025-10-24 15:33:26 -0400 (Fri, 24 Oct 2025) EllapsedTime: 18.6 seconds RetCode: 0 Status: OK