Package: VCFArray Version: 1.25.0 Command: rm -rf VCFArray.buildbin-libdir && mkdir VCFArray.buildbin-libdir && /Users/biocbuild/BBS/utils/build-universal.sh VCFArray_1.25.0.tar.gz /Library/Frameworks/R.framework/Resources/bin/R VCFArray.buildbin-libdir StartedAt: 2025-10-24 23:23:46 -0400 (Fri, 24 Oct 2025) EndedAt: 2025-10-24 23:24:05 -0400 (Fri, 24 Oct 2025) EllapsedTime: 19.3 seconds RetCode: 0 Status: OK PackageFile: VCFArray_1.25.0.tgz PackageFileSize: 1.04 MiB