Package: VAExprs Version: 1.16.0 Command: /home/biocbuild/bbs-3.22-bioc/R/bin/R CMD build --keep-empty-dirs --no-resave-data --md5 VAExprs StartedAt: 2025-11-18 00:08:39 -0500 (Tue, 18 Nov 2025) EndedAt: 2025-11-18 00:09:19 -0500 (Tue, 18 Nov 2025) EllapsedTime: 40.0 seconds RetCode: 0 Status: OK PackageFile: VAExprs_1.16.0.tar.gz PackageFileSize: 562.4 KiB