Package: Ularcirc Version: 1.27.2 Command: /home/biocbuild/bbs-3.22-bioc/R/bin/R CMD INSTALL Ularcirc StartedAt: 2025-10-24 15:52:10 -0400 (Fri, 24 Oct 2025) EndedAt: 2025-10-24 15:52:19 -0400 (Fri, 24 Oct 2025) EllapsedTime: 9.7 seconds RetCode: 0 Status: OK