Package: Ularcirc Version: 1.27.2 Command: /home/biocbuild/bbs-3.22-bioc/R/bin/R CMD build --keep-empty-dirs --no-resave-data --md5 Ularcirc StartedAt: 2025-10-24 20:46:58 -0400 (Fri, 24 Oct 2025) EndedAt: 2025-10-24 20:47:10 -0400 (Fri, 24 Oct 2025) EllapsedTime: 12.0 seconds RetCode: 0 Status: OK PackageFile: Ularcirc_1.27.2.tar.gz PackageFileSize: 5.219 MiB