Package: UPDhmm Version: 1.6.0 Command: /home/biocbuild/bbs-3.22-bioc/R/bin/R CMD build --keep-empty-dirs --no-resave-data --md5 UPDhmm StartedAt: 2025-11-16 20:50:14 -0500 (Sun, 16 Nov 2025) EndedAt: 2025-11-16 20:50:41 -0500 (Sun, 16 Nov 2025) EllapsedTime: 27.0 seconds RetCode: 0 Status: OK PackageFile: UPDhmm_1.6.0.tar.gz PackageFileSize: 1.112 MiB