Package: UNDO Version: 1.52.0 Command: /home/biocbuild/bbs-3.22-bioc/R/bin/R CMD build --keep-empty-dirs --no-resave-data --md5 UNDO StartedAt: 2025-11-06 20:39:23 -0500 (Thu, 06 Nov 2025) EndedAt: 2025-11-06 20:39:32 -0500 (Thu, 06 Nov 2025) EllapsedTime: 9.0 seconds RetCode: 0 Status: OK PackageFile: UNDO_1.52.0.tar.gz PackageFileSize: 2.855 MiB