Package: UCSC.utils Version: 1.5.0 Command: /home/biocbuild/bbs-3.22-bioc/R/bin/R CMD INSTALL UCSC.utils StartedAt: 2025-10-24 15:23:12 -0400 (Fri, 24 Oct 2025) EndedAt: 2025-10-24 15:23:16 -0400 (Fri, 24 Oct 2025) EllapsedTime: 3.9 seconds RetCode: 0 Status: OK