Package: UCSC.utils Version: 1.5.0 Command: /home/biocbuild/bbs-3.22-bioc/R/bin/R CMD build --keep-empty-dirs --no-resave-data --md5 UCSC.utils StartedAt: 2025-10-24 20:46:57 -0400 (Fri, 24 Oct 2025) EndedAt: 2025-10-24 20:47:09 -0400 (Fri, 24 Oct 2025) EllapsedTime: 12.0 seconds RetCode: 0 Status: OK PackageFile: UCSC.utils_1.5.0.tar.gz PackageFileSize: 231.4 KiB