Package: UCSC.utils Version: 1.6.0 Command: /Library/Frameworks/R.framework/Resources/bin/R CMD INSTALL UCSC.utils StartedAt: 2025-11-03 15:19:12 -0500 (Mon, 03 Nov 2025) EndedAt: 2025-11-03 15:19:22 -0500 (Mon, 03 Nov 2025) EllapsedTime: 9.6 seconds RetCode: 0 Status: OK