Package: UCSC.utils Version: 1.6.0 Command: /Library/Frameworks/R.framework/Resources/bin/R CMD build --keep-empty-dirs --no-resave-data UCSC.utils StartedAt: 2025-11-03 19:10:39 -0500 (Mon, 03 Nov 2025) EndedAt: 2025-11-03 19:10:54 -0500 (Mon, 03 Nov 2025) EllapsedTime: 14.9 seconds RetCode: 0 Status: OK PackageFile: UCSC.utils_1.6.0.tar.gz PackageFileSize: 230.4 KiB