Package: UCSC.utils Version: 1.6.0 Command: /Library/Frameworks/R.framework/Resources/bin/R CMD INSTALL UCSC.utils StartedAt: 2025-11-02 15:06:56 -0500 (Sun, 02 Nov 2025) EndedAt: 2025-11-02 15:06:59 -0500 (Sun, 02 Nov 2025) EllapsedTime: 2.5 seconds RetCode: 0 Status: OK