Package: UCSC.utils Version: 1.6.0 Command: /Library/Frameworks/R.framework/Resources/bin/R CMD build --keep-empty-dirs --no-resave-data UCSC.utils StartedAt: 2025-11-02 18:04:08 -0500 (Sun, 02 Nov 2025) EndedAt: 2025-11-02 18:04:15 -0500 (Sun, 02 Nov 2025) EllapsedTime: 7.1 seconds RetCode: 0 Status: OK PackageFile: UCSC.utils_1.6.0.tar.gz PackageFileSize: 230.5 KiB