Package: UCSC.utils Version: 1.6.0 Command: rm -rf UCSC.utils.buildbin-libdir && mkdir UCSC.utils.buildbin-libdir && /Users/biocbuild/BBS/utils/build-universal.sh UCSC.utils_1.6.0.tar.gz /Library/Frameworks/R.framework/Resources/bin/R UCSC.utils.buildbin-libdir StartedAt: 2025-11-02 23:25:20 -0500 (Sun, 02 Nov 2025) EndedAt: 2025-11-02 23:25:22 -0500 (Sun, 02 Nov 2025) EllapsedTime: 2.0 seconds RetCode: 0 Status: OK PackageFile: UCSC.utils_1.6.0.tgz PackageFileSize: 282.8 KiB