Package: TurboNorm Version: 1.58.0 Command: /Library/Frameworks/R.framework/Resources/bin/R CMD INSTALL TurboNorm StartedAt: 2025-11-10 15:07:33 -0500 (Mon, 10 Nov 2025) EndedAt: 2025-11-10 15:07:36 -0500 (Mon, 10 Nov 2025) EllapsedTime: 2.9 seconds RetCode: 0 Status: OK