Package: TurboNorm Version: 1.58.0 Command: /Library/Frameworks/R.framework/Resources/bin/R CMD build --keep-empty-dirs --no-resave-data TurboNorm StartedAt: 2025-11-10 18:04:39 -0500 (Mon, 10 Nov 2025) EndedAt: 2025-11-10 18:04:46 -0500 (Mon, 10 Nov 2025) EllapsedTime: 7.1 seconds RetCode: 0 Status: OK PackageFile: TurboNorm_1.58.0.tar.gz PackageFileSize: 2.021 MiB