Package: TurboNorm Version: 1.58.0 Command: rm -rf TurboNorm.buildbin-libdir && mkdir TurboNorm.buildbin-libdir && /Users/biocbuild/BBS/utils/build-universal.sh TurboNorm_1.58.0.tar.gz /Library/Frameworks/R.framework/Resources/bin/R TurboNorm.buildbin-libdir StartedAt: 2025-11-10 23:40:20 -0500 (Mon, 10 Nov 2025) EndedAt: 2025-11-10 23:40:23 -0500 (Mon, 10 Nov 2025) EllapsedTime: 3.1 seconds RetCode: 0 Status: OK PackageFile: TurboNorm_1.58.0.tgz PackageFileSize: 2.05 MiB