Package: TreeSummarizedExperiment Version: 2.18.0 Command: /Library/Frameworks/R.framework/Resources/bin/R CMD INSTALL TreeSummarizedExperiment StartedAt: 2025-11-17 17:35:01 -0500 (Mon, 17 Nov 2025) EndedAt: 2025-11-17 17:36:11 -0500 (Mon, 17 Nov 2025) EllapsedTime: 69.2 seconds RetCode: 0 Status: OK