Package: TreeSummarizedExperiment Version: 2.18.0 Command: rm -rf TreeSummarizedExperiment.buildbin-libdir && mkdir TreeSummarizedExperiment.buildbin-libdir && /Users/biocbuild/BBS/utils/build-universal.sh TreeSummarizedExperiment_2.18.0.tar.gz /Library/Frameworks/R.framework/Resources/bin/R TreeSummarizedExperiment.buildbin-libdir StartedAt: 2025-11-18 18:46:48 -0500 (Tue, 18 Nov 2025) EndedAt: 2025-11-18 18:48:00 -0500 (Tue, 18 Nov 2025) EllapsedTime: 71.8 seconds RetCode: 0 Status: OK PackageFile: TreeSummarizedExperiment_2.18.0.tgz PackageFileSize: 1.837 MiB