Package: TreeSummarizedExperiment Version: 2.17.1 Command: /Library/Frameworks/R.framework/Resources/bin/R CMD build --keep-empty-dirs --no-resave-data TreeSummarizedExperiment StartedAt: 2025-10-26 18:16:01 -0400 (Sun, 26 Oct 2025) EndedAt: 2025-10-26 18:16:24 -0400 (Sun, 26 Oct 2025) EllapsedTime: 23.3 seconds RetCode: 0 Status: OK PackageFile: TreeSummarizedExperiment_2.17.1.tar.gz PackageFileSize: 1.104 MiB