Package: TreeSummarizedExperiment Version: 2.17.1 Command: rm -rf TreeSummarizedExperiment.buildbin-libdir && mkdir TreeSummarizedExperiment.buildbin-libdir && /Users/biocbuild/BBS/utils/build-universal.sh TreeSummarizedExperiment_2.17.1.tar.gz /Library/Frameworks/R.framework/Resources/bin/R TreeSummarizedExperiment.buildbin-libdir StartedAt: 2025-10-26 22:50:49 -0400 (Sun, 26 Oct 2025) EndedAt: 2025-10-26 22:51:02 -0400 (Sun, 26 Oct 2025) EllapsedTime: 13.3 seconds RetCode: 0 Status: OK PackageFile: TreeSummarizedExperiment_2.17.1.tgz PackageFileSize: 1.838 MiB