Package: TreeSummarizedExperiment Version: 2.18.0 Command: /Library/Frameworks/R.framework/Resources/bin/R CMD build --keep-empty-dirs --no-resave-data TreeSummarizedExperiment StartedAt: 2025-11-18 01:58:56 -0500 (Tue, 18 Nov 2025) EndedAt: 2025-11-18 01:59:27 -0500 (Tue, 18 Nov 2025) EllapsedTime: 30.3 seconds RetCode: 0 Status: OK PackageFile: TreeSummarizedExperiment_2.18.0.tar.gz PackageFileSize: 1.104 MiB