Package: TreeSummarizedExperiment Version: 2.18.0 Maintainer: Ruizhu Huang MaintainerEmail: ruizhuRH at gmail.com git_url: https://git.bioconductor.org/packages/TreeSummarizedExperiment git_branch: RELEASE_3_22 git_last_commit: f463a1d git_last_commit_date: 2025-10-29 10:52:27 -0500 (Wed, 29 Oct 2025)