Package: TreeAndLeaf Version: 1.22.0 Command: /Library/Frameworks/R.framework/Resources/bin/R CMD build --keep-empty-dirs --no-resave-data TreeAndLeaf StartedAt: 2025-11-06 18:02:01 -0500 (Thu, 06 Nov 2025) EndedAt: 2025-11-06 18:02:08 -0500 (Thu, 06 Nov 2025) EllapsedTime: 6.1 seconds RetCode: 0 Status: OK PackageFile: TreeAndLeaf_1.22.0.tar.gz PackageFileSize: 5.627 MiB