Package: TreeAndLeaf Version: 1.22.0 Command: rm -rf TreeAndLeaf.buildbin-libdir && mkdir TreeAndLeaf.buildbin-libdir && /Users/biocbuild/BBS/utils/build-universal.sh TreeAndLeaf_1.22.0.tar.gz /Library/Frameworks/R.framework/Resources/bin/R TreeAndLeaf.buildbin-libdir StartedAt: 2025-11-06 23:25:06 -0500 (Thu, 06 Nov 2025) EndedAt: 2025-11-06 23:25:09 -0500 (Thu, 06 Nov 2025) EllapsedTime: 3.0 seconds RetCode: 0 Status: OK PackageFile: TreeAndLeaf_1.22.0.tgz PackageFileSize: 3.165 MiB