Package: TreeAndLeaf Version: 1.22.0 Command: /Library/Frameworks/R.framework/Resources/bin/R CMD build --keep-empty-dirs --no-resave-data TreeAndLeaf StartedAt: 2025-11-21 12:50:54 -0500 (Fri, 21 Nov 2025) EndedAt: 2025-11-21 12:51:15 -0500 (Fri, 21 Nov 2025) EllapsedTime: 21.3 seconds RetCode: 0 Status: OK PackageFile: TreeAndLeaf_1.22.0.tar.gz PackageFileSize: 5.627 MiB