Package: TrajectoryUtils Version: 1.18.0 Command: /home/biocbuild/R/R/bin/R CMD build --keep-empty-dirs --no-resave-data TrajectoryUtils StartedAt: 2025-11-14 06:04:04 -0000 (Fri, 14 Nov 2025) EndedAt: 2025-11-14 06:04:49 -0000 (Fri, 14 Nov 2025) EllapsedTime: 45.0 seconds RetCode: 0 Status: OK PackageFile: TrajectoryUtils_1.18.0.tar.gz PackageFileSize: 393.5 KiB