Package: TrajectoryUtils Version: 1.17.0 Command: /home/biocbuild/bbs-3.22-bioc/R/bin/R CMD INSTALL TrajectoryUtils StartedAt: 2025-10-24 15:34:59 -0400 (Fri, 24 Oct 2025) EndedAt: 2025-10-24 15:35:24 -0400 (Fri, 24 Oct 2025) EllapsedTime: 24.5 seconds RetCode: 0 Status: OK