Package: TrajectoryGeometry Version: 1.17.0 Command: /home/biocbuild/bbs-3.22-bioc/R/bin/R CMD INSTALL TrajectoryGeometry StartedAt: 2025-10-24 15:18:21 -0400 (Fri, 24 Oct 2025) EndedAt: 2025-10-24 15:18:34 -0400 (Fri, 24 Oct 2025) EllapsedTime: 12.2 seconds RetCode: 0 Status: OK