Package: TrajectoryGeometry Version: 1.18.0 Command: /home/biocbuild/bbs-3.22-bioc/R/bin/R CMD check --install=check:TrajectoryGeometry.install-out.txt --library=/home/biocbuild/bbs-3.22-bioc/R/site-library --timings TrajectoryGeometry_1.18.0.tar.gz StartedAt: 2025-11-10 05:14:25 -0500 (Mon, 10 Nov 2025) EndedAt: 2025-11-10 05:20:30 -0500 (Mon, 10 Nov 2025) EllapsedTime: 365.4 seconds RetCode: 0 Status: OK CheckDir: TrajectoryGeometry.Rcheck Warnings: 0