Package: TrajectoryGeometry Version: 1.18.0 Command: /Library/Frameworks/R.framework/Resources/bin/R CMD build --keep-empty-dirs --no-resave-data TrajectoryGeometry StartedAt: 2025-11-18 02:59:57 -0500 (Tue, 18 Nov 2025) EndedAt: 2025-11-18 03:15:23 -0500 (Tue, 18 Nov 2025) EllapsedTime: 925.1 seconds RetCode: 0 Status: OK PackageFile: TrajectoryGeometry_1.18.0.tar.gz PackageFileSize: 1.894 MiB