Package: TrajectoryGeometry Version: 1.17.0 Command: /Library/Frameworks/R.framework/Resources/bin/R CMD build --keep-empty-dirs --no-resave-data TrajectoryGeometry StartedAt: 2025-10-24 19:06:27 -0400 (Fri, 24 Oct 2025) EndedAt: 2025-10-24 19:11:22 -0400 (Fri, 24 Oct 2025) EllapsedTime: 294.7 seconds RetCode: 0 Status: OK PackageFile: TrajectoryGeometry_1.17.0.tar.gz PackageFileSize: 1.894 MiB