Package: TrajectoryGeometry Version: 1.17.0 Command: rm -rf TrajectoryGeometry.buildbin-libdir && mkdir TrajectoryGeometry.buildbin-libdir && /Users/biocbuild/BBS/utils/build-universal.sh TrajectoryGeometry_1.17.0.tar.gz /Library/Frameworks/R.framework/Resources/bin/R TrajectoryGeometry.buildbin-libdir StartedAt: 2025-10-25 02:09:13 -0400 (Sat, 25 Oct 2025) EndedAt: 2025-10-25 02:09:24 -0400 (Sat, 25 Oct 2025) EllapsedTime: 10.5 seconds RetCode: 0 Status: OK PackageFile: TrajectoryGeometry_1.17.0.tgz PackageFileSize: 1.36 MiB