Package: TrajectoryGeometry Version: 1.17.0 Command: rm -rf TrajectoryGeometry.buildbin-libdir && mkdir TrajectoryGeometry.buildbin-libdir && /Users/biocbuild/BBS/utils/build-universal.sh TrajectoryGeometry_1.17.0.tar.gz /Library/Frameworks/R.framework/Resources/bin/R TrajectoryGeometry.buildbin-libdir StartedAt: 2025-10-24 23:23:01 -0400 (Fri, 24 Oct 2025) EndedAt: 2025-10-24 23:23:04 -0400 (Fri, 24 Oct 2025) EllapsedTime: 3.1 seconds RetCode: 0 Status: OK PackageFile: TrajectoryGeometry_1.17.0.tgz PackageFileSize: 1.363 MiB