Package: TrIdent Version: 1.2.0 Command: /home/biocbuild/bbs-3.22-bioc/R/bin/R CMD INSTALL TrIdent StartedAt: 2025-10-30 15:09:46 -0400 (Thu, 30 Oct 2025) EndedAt: 2025-10-30 15:10:04 -0400 (Thu, 30 Oct 2025) EllapsedTime: 18.7 seconds RetCode: 0 Status: OK