Package: TrIdent Version: 1.2.0 Command: /home/biocbuild/bbs-3.22-bioc/R/bin/R CMD build --keep-empty-dirs --no-resave-data --md5 TrIdent StartedAt: 2025-10-30 20:37:12 -0400 (Thu, 30 Oct 2025) EndedAt: 2025-10-30 20:37:54 -0400 (Thu, 30 Oct 2025) EllapsedTime: 42.0 seconds RetCode: 0 Status: OK PackageFile: TrIdent_1.2.0.tar.gz PackageFileSize: 1.613 MiB