Package: TargetSearch Version: 2.12.0 Command: /home/biocbuild/bbs-3.22-bioc/R/bin/R CMD INSTALL TargetSearch StartedAt: 2025-11-17 16:39:54 -0500 (Mon, 17 Nov 2025) EndedAt: 2025-11-17 16:40:01 -0500 (Mon, 17 Nov 2025) EllapsedTime: 7.6 seconds RetCode: 0 Status: OK