Package: TargetScore Version: 1.48.0 Command: /Library/Frameworks/R.framework/Resources/bin/R CMD INSTALL TargetScore StartedAt: 2025-11-10 15:02:56 -0500 (Mon, 10 Nov 2025) EndedAt: 2025-11-10 15:02:59 -0500 (Mon, 10 Nov 2025) EllapsedTime: 3.0 seconds RetCode: 0 Status: OK