Package: TargetScore Version: 1.48.0 Command: /Library/Frameworks/R.framework/Resources/bin/R CMD build --keep-empty-dirs --no-resave-data TargetScore StartedAt: 2025-11-10 17:58:22 -0500 (Mon, 10 Nov 2025) EndedAt: 2025-11-10 17:58:31 -0500 (Mon, 10 Nov 2025) EllapsedTime: 9.1 seconds RetCode: 0 Status: OK PackageFile: TargetScore_1.48.0.tar.gz PackageFileSize: 1.228 MiB