Package: TTMap Version: 1.31.0 Command: /home/biocbuild/bbs-3.22-bioc/R/bin/R CMD INSTALL TTMap StartedAt: 2025-10-24 15:33:35 -0400 (Fri, 24 Oct 2025) EndedAt: 2025-10-24 15:33:58 -0400 (Fri, 24 Oct 2025) EllapsedTime: 22.6 seconds RetCode: 0 Status: OK