Package: TTMap Version: 1.32.0 Command: /Library/Frameworks/R.framework/Resources/bin/R CMD INSTALL TTMap StartedAt: 2025-11-10 15:14:29 -0500 (Mon, 10 Nov 2025) EndedAt: 2025-11-10 15:14:38 -0500 (Mon, 10 Nov 2025) EllapsedTime: 8.9 seconds RetCode: 0 Status: OK