Package: TTMap Version: 1.32.0 Command: /Library/Frameworks/R.framework/Resources/bin/R CMD build --keep-empty-dirs --no-resave-data TTMap StartedAt: 2025-11-10 18:04:34 -0500 (Mon, 10 Nov 2025) EndedAt: 2025-11-10 18:04:55 -0500 (Mon, 10 Nov 2025) EllapsedTime: 20.2 seconds RetCode: 0 Status: OK PackageFile: TTMap_1.32.0.tar.gz PackageFileSize: 1.61 MiB