Package: TTMap Version: 1.32.0 Command: rm -rf TTMap.buildbin-libdir && mkdir TTMap.buildbin-libdir && /Users/biocbuild/BBS/utils/build-universal.sh TTMap_1.32.0.tar.gz /Library/Frameworks/R.framework/Resources/bin/R TTMap.buildbin-libdir StartedAt: 2025-11-10 23:40:19 -0500 (Mon, 10 Nov 2025) EndedAt: 2025-11-10 23:40:29 -0500 (Mon, 10 Nov 2025) EllapsedTime: 10.3 seconds RetCode: 0 Status: OK PackageFile: TTMap_1.32.0.tgz PackageFileSize: 1.392 MiB