Package: TTMap Version: 1.32.0 Command: /Library/Frameworks/R.framework/Resources/bin/R CMD INSTALL TTMap StartedAt: 2025-11-24 16:34:49 -0500 (Mon, 24 Nov 2025) EndedAt: 2025-11-24 16:35:15 -0500 (Mon, 24 Nov 2025) EllapsedTime: 25.7 seconds RetCode: 0 Status: OK