Package: TTMap Version: 1.32.0 Command: /Library/Frameworks/R.framework/Resources/bin/R CMD build --keep-empty-dirs --no-resave-data TTMap StartedAt: 2025-11-25 12:45:22 -0500 (Tue, 25 Nov 2025) EndedAt: 2025-11-25 12:46:57 -0500 (Tue, 25 Nov 2025) EllapsedTime: 95.0 seconds RetCode: 0 Status: OK PackageFile: TTMap_1.32.0.tar.gz PackageFileSize: 1.61 MiB